Package: SynMut Version: 1.20.0 Command: /Library/Frameworks/R.framework/Resources/bin/R CMD INSTALL SynMut StartedAt: 2024-10-16 15:17:31 -0400 (Wed, 16 Oct 2024) EndedAt: 2024-10-16 15:18:00 -0400 (Wed, 16 Oct 2024) EllapsedTime: 29.0 seconds RetCode: 0 Status: OK