Package: SynMut Version: 1.20.0 Command: /Library/Frameworks/R.framework/Resources/bin/R CMD check --install=check:SynMut.install-out.txt --library=/Library/Frameworks/R.framework/Resources/library --no-vignettes --timings SynMut_1.20.0.tar.gz StartedAt: 2024-10-17 14:09:20 -0400 (Thu, 17 Oct 2024) EndedAt: 2024-10-17 14:12:42 -0400 (Thu, 17 Oct 2024) EllapsedTime: 201.8 seconds RetCode: 0 Status: OK CheckDir: SynMut.Rcheck Warnings: 0