Package: SynMut Version: 1.20.0 Command: rm -rf SynMut.buildbin-libdir && mkdir SynMut.buildbin-libdir && /Users/biocbuild/BBS/utils/build-universal.sh SynMut_1.20.0.tar.gz /Library/Frameworks/R.framework/Resources/bin/R SynMut.buildbin-libdir StartedAt: 2024-10-17 17:19:53 -0400 (Thu, 17 Oct 2024) EndedAt: 2024-10-17 17:20:24 -0400 (Thu, 17 Oct 2024) EllapsedTime: 30.6 seconds RetCode: 0 Status: OK PackageFile: SynMut_1.20.0.tgz PackageFileSize: 315.8 KiB