Package: SynMut Version: 1.20.0 Command: /Library/Frameworks/R.framework/Resources/bin/R CMD check --install=check:SynMut.install-out.txt --library=/Library/Frameworks/R.framework/Resources/library --no-vignettes --timings SynMut_1.20.0.tar.gz StartedAt: 2024-06-09 23:28:21 -0400 (Sun, 09 Jun 2024) EndedAt: 2024-06-09 23:30:01 -0400 (Sun, 09 Jun 2024) EllapsedTime: 100.4 seconds RetCode: 0 Status: OK CheckDir: SynMut.Rcheck Warnings: 0