Package: SynExtend Version: 1.16.0 Command: /Library/Frameworks/R.framework/Resources/bin/R CMD check --install=check:SynExtend.install-out.txt --library=/Library/Frameworks/R.framework/Resources/library --no-vignettes --timings SynExtend_1.16.0.tar.gz StartedAt: 2024-10-18 14:37:48 -0400 (Fri, 18 Oct 2024) EndedAt: 2024-10-18 14:46:35 -0400 (Fri, 18 Oct 2024) EllapsedTime: 526.8 seconds RetCode: 0 Status: WARNINGS CheckDir: SynExtend.Rcheck Warnings: 1