Package: SwathXtend Version: 2.26.0 Command: rm -rf SwathXtend.buildbin-libdir && mkdir SwathXtend.buildbin-libdir && /Users/biocbuild/BBS/utils/build-universal.sh SwathXtend_2.26.0.tar.gz /Library/Frameworks/R.framework/Resources/bin/R SwathXtend.buildbin-libdir StartedAt: 2024-10-17 17:19:24 -0400 (Thu, 17 Oct 2024) EndedAt: 2024-10-17 17:20:59 -0400 (Thu, 17 Oct 2024) EllapsedTime: 94.3 seconds RetCode: 0 Status: OK PackageFile: SwathXtend_2.26.0.tgz PackageFileSize: 346.6 MiB