Package: SwathXtend Version: 2.26.0 Command: /Library/Frameworks/R.framework/Resources/bin/R CMD INSTALL SwathXtend StartedAt: 2024-06-09 15:39:55 -0400 (Sun, 09 Jun 2024) EndedAt: 2024-06-09 15:40:02 -0400 (Sun, 09 Jun 2024) EllapsedTime: 7.5 seconds RetCode: 0 Status: OK