Package: SurfR Version: 1.0.0 Command: rm -rf SurfR.buildbin-libdir && mkdir SurfR.buildbin-libdir && E:\biocbuild\bbs-3.19-bioc\R\bin\R.exe CMD INSTALL --build --library=SurfR.buildbin-libdir SurfR_1.0.0.tar.gz StartedAt: 2024-09-30 07:49:38 -0400 (Mon, 30 Sep 2024) EndedAt: 2024-09-30 07:50:33 -0400 (Mon, 30 Sep 2024) EllapsedTime: 55.3 seconds RetCode: 0 Status: OK PackageFile: SurfR_1.0.0.zip PackageFileSize: 473.8 KiB