Package: SurfR Version: 1.0.0 Command: /Library/Frameworks/R.framework/Resources/bin/R CMD check --install=check:SurfR.install-out.txt --library=/Library/Frameworks/R.framework/Resources/library --no-vignettes --timings SurfR_1.0.0.tar.gz StartedAt: 2024-10-14 13:38:38 -0400 (Mon, 14 Oct 2024) EndedAt: 2024-10-14 14:06:18 -0400 (Mon, 14 Oct 2024) EllapsedTime: 1660.5 seconds RetCode: 0 Status: OK CheckDir: SurfR.Rcheck Warnings: 0