Package: Summix Version: 2.10.0 Command: F:\biocbuild\bbs-3.19-bioc\R\bin\R.exe CMD check --no-multiarch --install=check:Summix.install-out.txt --library=F:\biocbuild\bbs-3.19-bioc\R\library --no-vignettes --timings Summix_2.10.0.tar.gz StartedAt: 2024-06-27 06:45:14 -0400 (Thu, 27 Jun 2024) EndedAt: 2024-06-27 06:46:51 -0400 (Thu, 27 Jun 2024) EllapsedTime: 97.2 seconds RetCode: 0 Status: OK CheckDir: Summix.Rcheck Warnings: 0