Package: Summix Version: 2.10.0 Command: rm -rf Summix.buildbin-libdir && mkdir Summix.buildbin-libdir && F:\biocbuild\bbs-3.19-bioc\R\bin\R.exe CMD INSTALL --build --library=Summix.buildbin-libdir Summix_2.10.0.tar.gz StartedAt: 2024-06-27 09:00:46 -0400 (Thu, 27 Jun 2024) EndedAt: 2024-06-27 09:01:14 -0400 (Thu, 27 Jun 2024) EllapsedTime: 27.9 seconds RetCode: 0 Status: OK PackageFile: Summix_2.10.0.zip PackageFileSize: 354.4 KiB