Package: Summix Version: 2.10.0 Command: /home/biocbuild/bbs-3.19-bioc/R/bin/R CMD check --install=check:Summix.install-out.txt --library=/home/biocbuild/bbs-3.19-bioc/R/site-library --timings Summix_2.10.0.tar.gz StartedAt: 2024-10-17 05:40:09 -0400 (Thu, 17 Oct 2024) EndedAt: 2024-10-17 05:41:29 -0400 (Thu, 17 Oct 2024) EllapsedTime: 80.1 seconds RetCode: 0 Status: OK CheckDir: Summix.Rcheck Warnings: 0