Package: Summix Version: 2.10.0 Command: /Library/Frameworks/R.framework/Resources/bin/R CMD check --install=check:Summix.install-out.txt --library=/Library/Frameworks/R.framework/Resources/library --no-vignettes --timings Summix_2.10.0.tar.gz StartedAt: 2024-10-17 14:02:13 -0400 (Thu, 17 Oct 2024) EndedAt: 2024-10-17 14:05:15 -0400 (Thu, 17 Oct 2024) EllapsedTime: 182.2 seconds RetCode: 0 Status: OK CheckDir: Summix.Rcheck Warnings: 0