Package: Summix Version: 2.10.0 Command: /Library/Frameworks/R.framework/Resources/bin/R CMD build --keep-empty-dirs --no-resave-data Summix StartedAt: 2024-10-16 23:49:18 -0400 (Wed, 16 Oct 2024) EndedAt: 2024-10-16 23:49:57 -0400 (Wed, 16 Oct 2024) EllapsedTime: 38.6 seconds RetCode: 0 Status: OK PackageFile: Summix_2.10.0.tar.gz PackageFileSize: 1.254 MiB