Package: Summix Version: 2.10.0 Command: rm -rf Summix.buildbin-libdir && mkdir Summix.buildbin-libdir && /Users/biocbuild/BBS/utils/build-universal.sh Summix_2.10.0.tar.gz /Library/Frameworks/R.framework/Resources/bin/R Summix.buildbin-libdir StartedAt: 2024-10-17 17:18:55 -0400 (Thu, 17 Oct 2024) EndedAt: 2024-10-17 17:19:20 -0400 (Thu, 17 Oct 2024) EllapsedTime: 24.8 seconds RetCode: 0 Status: OK PackageFile: Summix_2.10.0.tgz PackageFileSize: 351.3 KiB