Package: Summix Version: 2.10.0 Command: rm -rf Summix.buildbin-libdir && mkdir Summix.buildbin-libdir && /Users/biocbuild/BBS/utils/build-universal.sh Summix_2.10.0.tar.gz /Library/Frameworks/R.framework/Resources/bin/R Summix.buildbin-libdir StartedAt: 2024-06-10 00:42:40 -0400 (Mon, 10 Jun 2024) EndedAt: 2024-06-10 00:42:54 -0400 (Mon, 10 Jun 2024) EllapsedTime: 13.8 seconds RetCode: 0 Status: OK PackageFile: Summix_2.10.0.tgz PackageFileSize: 349.6 KiB