Package: Summix Version: 2.10.0 Command: /home/biocbuild/R/R-beta-2024-04-15_r86425/bin/R CMD check --install=check:Summix.install-out.txt --library=/home/biocbuild/R/R-beta-2024-04-15_r86425/site-library --no-vignettes --timings Summix_2.10.0.tar.gz StartedAt: 2024-05-08 12:28:06 -0000 (Wed, 08 May 2024) EndedAt: 2024-05-08 12:29:36 -0000 (Wed, 08 May 2024) EllapsedTime: 90.1 seconds RetCode: 0 Status: OK CheckDir: Summix.Rcheck Warnings: 0