Package: Summix Version: 2.10.0 Command: /Library/Frameworks/R.framework/Resources/bin/R CMD INSTALL Summix StartedAt: 2024-06-09 16:40:48 -0400 (Sun, 09 Jun 2024) EndedAt: 2024-06-09 16:40:59 -0400 (Sun, 09 Jun 2024) EllapsedTime: 11.0 seconds RetCode: 0 Status: OK