Package: Summix Version: 2.10.0 Command: /Library/Frameworks/R.framework/Resources/bin/R CMD check --install=check:Summix.install-out.txt --library=/Library/Frameworks/R.framework/Resources/library --no-vignettes --timings Summix_2.10.0.tar.gz StartedAt: 2024-06-11 07:34:10 -0400 (Tue, 11 Jun 2024) EndedAt: 2024-06-11 07:36:22 -0400 (Tue, 11 Jun 2024) EllapsedTime: 131.9 seconds RetCode: 0 Status: OK CheckDir: Summix.Rcheck Warnings: 0