Package: Summix Version: 2.10.0 Command: rm -rf Summix.buildbin-libdir && mkdir Summix.buildbin-libdir && /Users/biocbuild/BBS/utils/build-universal.sh Summix_2.10.0.tar.gz /Library/Frameworks/R.framework/Resources/bin/R Summix.buildbin-libdir StartedAt: 2024-06-11 13:27:44 -0400 (Tue, 11 Jun 2024) EndedAt: 2024-06-11 13:28:06 -0400 (Tue, 11 Jun 2024) EllapsedTime: 21.2 seconds RetCode: 0 Status: OK PackageFile: Summix_2.10.0.tgz PackageFileSize: 350.5 KiB