Package: Summix Version: 2.10.0 Command: /Library/Frameworks/R.framework/Resources/bin/R CMD build --keep-empty-dirs --no-resave-data Summix StartedAt: 2024-10-17 10:21:54 -0400 (Thu, 17 Oct 2024) EndedAt: 2024-10-17 10:22:13 -0400 (Thu, 17 Oct 2024) EllapsedTime: 19.8 seconds RetCode: 0 Status: OK PackageFile: Summix_2.10.0.tar.gz PackageFileSize: 1.254 MiB