Package: SummarizedExperiment Version: 1.34.0 Command: /home/biocbuild/R/R-beta-2024-04-15_r86425/bin/R CMD build --keep-empty-dirs --no-resave-data SummarizedExperiment StartedAt: 2024-05-09 03:58:46 -0000 (Thu, 09 May 2024) EndedAt: 2024-05-09 03:59:52 -0000 (Thu, 09 May 2024) EllapsedTime: 66.1 seconds RetCode: 0 Status: OK PackageFile: SummarizedExperiment_1.34.0.tar.gz PackageFileSize: 761.3 KiB