Package: SummarizedExperiment Version: 1.34.0 Command: /Library/Frameworks/R.framework/Resources/bin/R CMD check --install=check:SummarizedExperiment.install-out.txt --library=/Library/Frameworks/R.framework/Resources/library --no-vignettes --timings SummarizedExperiment_1.34.0.tar.gz StartedAt: 2024-10-18 14:22:51 -0400 (Fri, 18 Oct 2024) EndedAt: 2024-10-18 14:26:52 -0400 (Fri, 18 Oct 2024) EllapsedTime: 241.0 seconds RetCode: 0 Status: OK CheckDir: SummarizedExperiment.Rcheck Warnings: 0