Package: SummarizedBenchmark Version: 2.22.0 Command: E:\biocbuild\bbs-3.19-bioc\R\bin\R.exe CMD INSTALL SummarizedBenchmark StartedAt: 2024-10-16 16:35:57 -0400 (Wed, 16 Oct 2024) EndedAt: 2024-10-16 16:38:44 -0400 (Wed, 16 Oct 2024) EllapsedTime: 166.8 seconds RetCode: 0 Status: OK