Package: SubCellBarCode Version: 1.20.0 Command: /home/biocbuild/R/R-beta-2024-04-15_r86425/bin/R CMD INSTALL SubCellBarCode StartedAt: 2024-05-08 20:54:55 -0000 (Wed, 08 May 2024) EndedAt: 2024-05-08 20:55:26 -0000 (Wed, 08 May 2024) EllapsedTime: 30.6 seconds RetCode: 0 Status: OK