Package: StructuralVariantAnnotation Version: 1.20.0 Command: E:\biocbuild\bbs-3.19-bioc\R\bin\R.exe CMD INSTALL StructuralVariantAnnotation StartedAt: 2024-10-16 16:33:11 -0400 (Wed, 16 Oct 2024) EndedAt: 2024-10-16 16:34:41 -0400 (Wed, 16 Oct 2024) EllapsedTime: 89.8 seconds RetCode: 0 Status: OK