Package: StructuralVariantAnnotation Version: 1.20.0 Command: /Library/Frameworks/R.framework/Resources/bin/R CMD check --install=check:StructuralVariantAnnotation.install-out.txt --library=/Library/Frameworks/R.framework/Resources/library --no-vignettes --timings StructuralVariantAnnotation_1.20.0.tar.gz StartedAt: 2024-06-11 07:29:38 -0400 (Tue, 11 Jun 2024) EndedAt: 2024-06-11 07:43:07 -0400 (Tue, 11 Jun 2024) EllapsedTime: 809.1 seconds RetCode: 0 Status: OK CheckDir: StructuralVariantAnnotation.Rcheck Warnings: 0