Package: StructuralVariantAnnotation Version: 1.20.0 Command: /Library/Frameworks/R.framework/Resources/bin/R CMD INSTALL StructuralVariantAnnotation StartedAt: 2024-10-16 16:40:30 -0400 (Wed, 16 Oct 2024) EndedAt: 2024-10-16 16:41:18 -0400 (Wed, 16 Oct 2024) EllapsedTime: 48.6 seconds RetCode: 0 Status: OK