Package: Structstrings Version: 1.20.0 Command: /home/biocbuild/bbs-3.19-bioc/R/bin/R CMD INSTALL Structstrings StartedAt: 2024-10-16 15:56:47 -0400 (Wed, 16 Oct 2024) EndedAt: 2024-10-16 15:57:04 -0400 (Wed, 16 Oct 2024) EllapsedTime: 16.7 seconds RetCode: 0 Status: OK