Package: Streamer Version: 1.50.0 Command: /home/biocbuild/bbs-3.19-bioc/R/bin/R CMD check --install=check:Streamer.install-out.txt --library=/home/biocbuild/bbs-3.19-bioc/R/site-library --timings Streamer_1.50.0.tar.gz StartedAt: 2024-10-17 05:38:37 -0400 (Thu, 17 Oct 2024) EndedAt: 2024-10-17 05:39:23 -0400 (Thu, 17 Oct 2024) EllapsedTime: 46.1 seconds RetCode: 0 Status: OK CheckDir: Streamer.Rcheck Warnings: 0