Package: Streamer Version: 1.50.0 Command: /home/biocbuild/bbs-3.19-bioc/R/bin/R CMD build --keep-empty-dirs --no-resave-data Streamer StartedAt: 2024-10-16 21:03:39 -0400 (Wed, 16 Oct 2024) EndedAt: 2024-10-16 21:03:57 -0400 (Wed, 16 Oct 2024) EllapsedTime: 18.0 seconds RetCode: 0 Status: OK PackageFile: Streamer_1.50.0.tar.gz PackageFileSize: 134.5 KiB