Package: Streamer Version: 1.50.0 Command: rm -rf Streamer.buildbin-libdir && mkdir Streamer.buildbin-libdir && /Users/biocbuild/BBS/utils/build-universal.sh Streamer_1.50.0.tar.gz /Library/Frameworks/R.framework/Resources/bin/R Streamer.buildbin-libdir StartedAt: 2024-06-10 00:42:29 -0400 (Mon, 10 Jun 2024) EndedAt: 2024-06-10 00:42:42 -0400 (Mon, 10 Jun 2024) EllapsedTime: 12.5 seconds RetCode: 0 Status: OK PackageFile: Streamer_1.50.0.tgz PackageFileSize: 580.4 KiB