Package: Streamer Version: 1.50.0 Command: /home/biocbuild/R/R-beta-2024-04-15_r86425/bin/R CMD build --keep-empty-dirs --no-resave-data Streamer StartedAt: 2024-05-09 03:57:10 -0000 (Thu, 09 May 2024) EndedAt: 2024-05-09 03:57:33 -0000 (Thu, 09 May 2024) EllapsedTime: 23.0 seconds RetCode: 0 Status: OK PackageFile: Streamer_1.50.0.tar.gz PackageFileSize: 130.8 KiB