Package: Streamer Version: 1.50.0 Command: rm -rf Streamer.buildbin-libdir && mkdir Streamer.buildbin-libdir && /Users/biocbuild/BBS/utils/build-universal.sh Streamer_1.50.0.tar.gz /Library/Frameworks/R.framework/Resources/bin/R Streamer.buildbin-libdir StartedAt: 2024-10-15 20:31:11 -0400 (Tue, 15 Oct 2024) EndedAt: 2024-10-15 20:31:24 -0400 (Tue, 15 Oct 2024) EllapsedTime: 12.5 seconds RetCode: 0 Status: OK PackageFile: Streamer_1.50.0.tgz PackageFileSize: 578.7 KiB