Package: Statial Version: 1.6.0 Command: /home/biocbuild/bbs-3.19-bioc/R/bin/R CMD INSTALL Statial StartedAt: 2024-10-16 16:19:57 -0400 (Wed, 16 Oct 2024) EndedAt: 2024-10-16 16:20:23 -0400 (Wed, 16 Oct 2024) EllapsedTime: 26.3 seconds RetCode: 0 Status: OK