Package: Statial Version: 1.6.0 Command: /home/biocbuild/bbs-3.19-bioc/R/bin/R CMD build --keep-empty-dirs --no-resave-data Statial StartedAt: 2024-10-16 21:03:24 -0400 (Wed, 16 Oct 2024) EndedAt: 2024-10-16 21:09:39 -0400 (Wed, 16 Oct 2024) EllapsedTime: 375.1 seconds RetCode: 0 Status: OK PackageFile: Statial_1.6.0.tar.gz PackageFileSize: 8.956 MiB