Package: Statial Version: 1.6.0 Command: /Library/Frameworks/R.framework/Resources/bin/R CMD build --keep-empty-dirs --no-resave-data Statial StartedAt: 2024-10-16 23:46:11 -0400 (Wed, 16 Oct 2024) EndedAt: 2024-10-17 00:01:18 -0400 (Thu, 17 Oct 2024) EllapsedTime: 906.2 seconds RetCode: 0 Status: OK PackageFile: Statial_1.6.0.tar.gz PackageFileSize: 9.485 MiB