Package: Statial Version: 1.6.0 Maintainer: Farhan Ameen MaintainerEmail: fame2827 at uni.sydney.edu.au git_url: https://git.bioconductor.org/packages/Statial git_branch: RELEASE_3_19 git_last_commit: ab82d2f git_last_commit_date: 2024-04-30 11:46:00 -0400 (Tue, 30 Apr 2024)