Package: StarBioTrek Version: 1.30.0 Command: rm -rf StarBioTrek.buildbin-libdir && mkdir StarBioTrek.buildbin-libdir && E:\biocbuild\bbs-3.19-bioc\R\bin\R.exe CMD INSTALL --build --library=StarBioTrek.buildbin-libdir StarBioTrek_1.30.0.tar.gz StartedAt: 2024-10-17 08:44:09 -0400 (Thu, 17 Oct 2024) EndedAt: 2024-10-17 08:45:01 -0400 (Thu, 17 Oct 2024) EllapsedTime: 51.9 seconds RetCode: 0 Status: OK PackageFile: StarBioTrek_1.30.0.zip PackageFileSize: 8.343 MiB