Package: StarBioTrek Version: 1.30.0 Command: F:\biocbuild\bbs-3.19-bioc\R\bin\R.exe CMD check --no-multiarch --install=check:StarBioTrek.install-out.txt --library=F:\biocbuild\bbs-3.19-bioc\R\library --no-vignettes --timings StarBioTrek_1.30.0.tar.gz StartedAt: 2024-06-27 06:40:13 -0400 (Thu, 27 Jun 2024) EndedAt: 2024-06-27 06:43:19 -0400 (Thu, 27 Jun 2024) EllapsedTime: 186.0 seconds RetCode: 0 Status: WARNINGS CheckDir: StarBioTrek.Rcheck Warnings: 2