Package: StarBioTrek Version: 1.30.0 Command: /home/biocbuild/bbs-3.19-bioc/R/bin/R CMD INSTALL StarBioTrek StartedAt: 2024-10-16 16:06:43 -0400 (Wed, 16 Oct 2024) EndedAt: 2024-10-16 16:07:05 -0400 (Wed, 16 Oct 2024) EllapsedTime: 22.3 seconds RetCode: 0 Status: OK