Package: StarBioTrek Version: 1.30.0 Command: /home/biocbuild/R/R-beta-2024-04-15_r86425/bin/R CMD check --install=check:StarBioTrek.install-out.txt --library=/home/biocbuild/R/R-beta-2024-04-15_r86425/site-library --no-vignettes --timings StarBioTrek_1.30.0.tar.gz StartedAt: 2024-05-08 12:23:58 -0000 (Wed, 08 May 2024) EndedAt: 2024-05-08 12:27:03 -0000 (Wed, 08 May 2024) EllapsedTime: 185.3 seconds RetCode: 0 Status: WARNINGS CheckDir: StarBioTrek.Rcheck Warnings: 2