Package: StarBioTrek Version: 1.30.0 Command: rm -rf StarBioTrek.buildbin-libdir && mkdir StarBioTrek.buildbin-libdir && /Users/biocbuild/BBS/utils/build-universal.sh StarBioTrek_1.30.0.tar.gz /Library/Frameworks/R.framework/Resources/bin/R StarBioTrek.buildbin-libdir StartedAt: 2024-10-15 20:30:32 -0400 (Tue, 15 Oct 2024) EndedAt: 2024-10-15 20:31:16 -0400 (Tue, 15 Oct 2024) EllapsedTime: 43.3 seconds RetCode: 0 Status: OK PackageFile: StarBioTrek_1.30.0.tgz PackageFileSize: 9.955 MiB