Package: SpotSweeper Version: 1.0.0 Command: rm -rf SpotSweeper.buildbin-libdir && mkdir SpotSweeper.buildbin-libdir && F:\biocbuild\bbs-3.19-bioc\R\bin\R.exe CMD INSTALL --build --library=SpotSweeper.buildbin-libdir SpotSweeper_1.0.0.tar.gz StartedAt: 2024-06-27 08:59:35 -0400 (Thu, 27 Jun 2024) EndedAt: 2024-06-27 09:00:28 -0400 (Thu, 27 Jun 2024) EllapsedTime: 52.9 seconds RetCode: 0 Status: OK PackageFile: SpotSweeper_1.0.0.zip PackageFileSize: 3.09 MiB