Package: SpotSweeper Version: 1.0.2 Command: /home/biocbuild/bbs-3.19-bioc/R/bin/R CMD check --install=check:SpotSweeper.install-out.txt --library=/home/biocbuild/bbs-3.19-bioc/R/site-library --timings SpotSweeper_1.0.2.tar.gz StartedAt: 2024-10-17 05:31:47 -0400 (Thu, 17 Oct 2024) EndedAt: 2024-10-17 05:41:07 -0400 (Thu, 17 Oct 2024) EllapsedTime: 560.1 seconds RetCode: 0 Status: OK CheckDir: SpotSweeper.Rcheck Warnings: 0