Package: SpotSweeper Version: 0.99.5 Command: /home/biocbuild/R/R-beta-2024-04-15_r86425/bin/R CMD check --install=check:SpotSweeper.install-out.txt --library=/home/biocbuild/R/R-beta-2024-04-15_r86425/site-library --no-vignettes --timings SpotSweeper_0.99.5.tar.gz StartedAt: 2024-04-29 10:55:41 -0000 (Mon, 29 Apr 2024) EndedAt: 2024-04-29 11:07:00 -0000 (Mon, 29 Apr 2024) EllapsedTime: 679.2 seconds RetCode: 0 Status: OK CheckDir: SpotSweeper.Rcheck Warnings: 0