Package: SpotSweeper Version: 1.0.2 Command: /Library/Frameworks/R.framework/Resources/bin/R CMD check --install=check:SpotSweeper.install-out.txt --library=/Library/Frameworks/R.framework/Resources/library --no-vignettes --timings SpotSweeper_1.0.2.tar.gz StartedAt: 2024-10-18 13:51:59 -0400 (Fri, 18 Oct 2024) EndedAt: 2024-10-18 14:01:48 -0400 (Fri, 18 Oct 2024) EllapsedTime: 588.3 seconds RetCode: 0 Status: OK CheckDir: SpotSweeper.Rcheck Warnings: 0