Package: SpotSweeper Version: 1.0.2 Command: rm -rf SpotSweeper.buildbin-libdir && mkdir SpotSweeper.buildbin-libdir && /Users/biocbuild/BBS/utils/build-universal.sh SpotSweeper_1.0.2.tar.gz /Library/Frameworks/R.framework/Resources/bin/R SpotSweeper.buildbin-libdir StartedAt: 2024-10-15 20:28:41 -0400 (Tue, 15 Oct 2024) EndedAt: 2024-10-15 20:29:32 -0400 (Tue, 15 Oct 2024) EllapsedTime: 51.2 seconds RetCode: 0 Status: OK PackageFile: SpotSweeper_1.0.2.tgz PackageFileSize: 3.653 MiB