Package: SpotSweeper Version: 1.0.2 Maintainer: Michael Totty MaintainerEmail: mictott at gmail.com git_url: https://git.bioconductor.org/packages/SpotSweeper git_branch: RELEASE_3_19 git_last_commit: 28291b5 git_last_commit_date: 2024-07-23 19:43:04 -0400 (Tue, 23 Jul 2024)