Package: SpotClean Version: 1.6.1 Command: chmod a+r SpotClean -R && E:\biocbuild\bbs-3.19-bioc\R\bin\R.exe CMD build --keep-empty-dirs --no-resave-data SpotClean StartedAt: 2024-10-16 22:09:37 -0400 (Wed, 16 Oct 2024) EndedAt: 2024-10-16 22:14:26 -0400 (Wed, 16 Oct 2024) EllapsedTime: 288.7 seconds RetCode: 0 Status: OK PackageFile: SpotClean_1.6.1.tar.gz PackageFileSize: 2.364 MiB